BEGIN:VCALENDAR
VERSION:2.0
PRODID:-//Kidpower® France - ECPv6.15.20//NONSGML v1.0//EN
CALSCALE:GREGORIAN
METHOD:PUBLISH
X-ORIGINAL-URL:https://www.kidpowerfrance.org
X-WR-CALDESC:Évènements pour Kidpower® France
REFRESH-INTERVAL;VALUE=DURATION:PT1H
X-Robots-Tag:noindex
X-PUBLISHED-TTL:PT1H
BEGIN:VTIMEZONE
TZID:Europe/Paris
BEGIN:DAYLIGHT
TZOFFSETFROM:+0100
TZOFFSETTO:+0200
TZNAME:CEST
DTSTART:20240331T010000
END:DAYLIGHT
BEGIN:STANDARD
TZOFFSETFROM:+0200
TZOFFSETTO:+0100
TZNAME:CET
DTSTART:20241027T010000
END:STANDARD
BEGIN:DAYLIGHT
TZOFFSETFROM:+0100
TZOFFSETTO:+0200
TZNAME:CEST
DTSTART:20250330T010000
END:DAYLIGHT
BEGIN:STANDARD
TZOFFSETFROM:+0200
TZOFFSETTO:+0100
TZNAME:CET
DTSTART:20251026T010000
END:STANDARD
BEGIN:DAYLIGHT
TZOFFSETFROM:+0100
TZOFFSETTO:+0200
TZNAME:CEST
DTSTART:20260329T010000
END:DAYLIGHT
BEGIN:STANDARD
TZOFFSETFROM:+0200
TZOFFSETTO:+0100
TZNAME:CET
DTSTART:20261025T010000
END:STANDARD
END:VTIMEZONE
BEGIN:VEVENT
DTSTART;TZID=Europe/Paris:20250409T193000
DTEND;TZID=Europe/Paris:20250409T210000
DTSTAMP:20260422T123538
CREATED:20241005T175839Z
LAST-MODIFIED:20241005T175839Z
UID:5987-1744227000-1744232400@www.kidpowerfrance.org
SUMMARY:Café Rencontre – mer. 9 avr. 2025 - Café du "Rendez-Vous"
DESCRIPTION: Café-rencontre de l’association Kidpower France\n\nPermanence pour accueillir les bénévoles et les futurs participants aux ateliers. \nVenez nous rejoindre pour échanger et partager ! \n \nLes bénévoles auront le plaisir de vous accueillir de répondre à toutes vos questions.
URL:https://www.kidpowerfrance.org/events/cafe-rencontre-mer-9-avr-2025-cafe-du-rendez-vous/
LOCATION:Indiana Café – Denfert-Rochereau\, 1bis Av. du Général Leclerc\, Paris\, 75014\, France
CATEGORIES:Café-Rencontre
ORGANIZER;CN="Kidpower France":MAILTO:info@kidpowerfrance.org
END:VEVENT
BEGIN:VEVENT
DTSTART;TZID=Europe/Paris:20250430T193000
DTEND;TZID=Europe/Paris:20250430T210000
DTSTAMP:20260422T123538
CREATED:20241005T175954Z
LAST-MODIFIED:20241005T175954Z
UID:5989-1746041400-1746046800@www.kidpowerfrance.org
SUMMARY:Café Rencontre – mer. 30 avr. 2025 - Café du "Rendez-Vous"
DESCRIPTION: Café-rencontre de l’association Kidpower France\n\nPermanence pour accueillir les bénévoles et les futurs participants aux ateliers. \nVenez nous rejoindre pour échanger et partager ! \n \nLes bénévoles auront le plaisir de vous accueillir de répondre à toutes vos questions.
URL:https://www.kidpowerfrance.org/events/cafe-rencontre-mer-30-avr-2025-cafe-du-rendez-vous/
LOCATION:Indiana Café – Denfert-Rochereau\, 1bis Av. du Général Leclerc\, Paris\, 75014\, France
CATEGORIES:Café-Rencontre
ORGANIZER;CN="Kidpower France":MAILTO:info@kidpowerfrance.org
END:VEVENT
END:VCALENDAR